BEGIN:VCALENDAR
VERSION:2.0
PRODID:-//St. Albert Further Ed - ECPv6.15.17.1//NONSGML v1.0//EN
CALSCALE:GREGORIAN
METHOD:PUBLISH
X-ORIGINAL-URL:https://stalbertfurthered.com
X-WR-CALDESC:Events for St. Albert Further Ed
REFRESH-INTERVAL;VALUE=DURATION:PT1H
X-Robots-Tag:noindex
X-PUBLISHED-TTL:PT1H
BEGIN:VTIMEZONE
TZID:UTC
BEGIN:STANDARD
TZOFFSETFROM:+0000
TZOFFSETTO:+0000
TZNAME:UTC
DTSTART:20230101T000000
END:STANDARD
END:VTIMEZONE
BEGIN:VEVENT
DTSTART;TZID=UTC:20240313T183000
DTEND;TZID=UTC:20240320T203000
DTSTAMP:20260422T033747
CREATED:20231204T234001Z
LAST-MODIFIED:20231204T234001Z
UID:282371-1710354600-1710966600@stalbertfurthered.com
SUMMARY:Is It Time to Buy an Electric Car?
DESCRIPTION:Is it time to buy an electric car\, hybrid\, plug in hybrid or a internal combustion? Let us explore the possibilities\, pros and cons\,  infrastructure and cost management and cost recovery to help you make an informed decision. \nInstructor: Mitch Smart \nLocation: St Albert Further Education\, 107 – 80 McKenney Ave\, St. Albert \nIf class is sold out – Please email here to be placed on the Wait List. \nRefund Information: \nCancellations: St. Albert Further Education reserves the right to cancel any class. A full refund will be issued for all cancelled classes. \nWithdrawals\, Transfers & Refunds: To withdraw from a class for a refund: • More than 7 days notification – full refund • Less than 7 days notification – credit voucher less 25% After class begins – no refund or credit Refunds may take up to four weeks to process. Refunds will not be issued for non-attendance. Classes will not be canceled due to severe weather. \nPlease note: Times and locations are subject to change
URL:https://stalbertfurthered.com/event/is-it-time-to-buy-an-electric-car-2/
LOCATION:St. Albert Further Education\, 80 McKenney Ave #107\, St. Albert\, Alberta\, T8N 2G4\, Canada
CATEGORIES:General Interest
ATTACH;FMTTYPE=image/jpeg:https://stalbertfurthered.com/wp-content/uploads/2022/08/Untitled-design-66.jpg
ORGANIZER;CN="St. Albert Further Education":MAILTO:admin@stalbertfurthered.com
END:VEVENT
END:VCALENDAR