BEGIN:VCALENDAR
VERSION:2.0
PRODID:-//St. Albert Further Ed - ECPv6.15.17.1//NONSGML v1.0//EN
CALSCALE:GREGORIAN
METHOD:PUBLISH
X-ORIGINAL-URL:https://stalbertfurthered.com
X-WR-CALDESC:Events for St. Albert Further Ed
REFRESH-INTERVAL;VALUE=DURATION:PT1H
X-Robots-Tag:noindex
X-PUBLISHED-TTL:PT1H
BEGIN:VTIMEZONE
TZID:America/Edmonton
BEGIN:DAYLIGHT
TZOFFSETFROM:-0700
TZOFFSETTO:-0600
TZNAME:MDT
DTSTART:20230312T090000
END:DAYLIGHT
BEGIN:STANDARD
TZOFFSETFROM:-0600
TZOFFSETTO:-0700
TZNAME:MST
DTSTART:20231105T080000
END:STANDARD
BEGIN:DAYLIGHT
TZOFFSETFROM:-0700
TZOFFSETTO:-0600
TZNAME:MDT
DTSTART:20240310T090000
END:DAYLIGHT
BEGIN:STANDARD
TZOFFSETFROM:-0600
TZOFFSETTO:-0700
TZNAME:MST
DTSTART:20241103T080000
END:STANDARD
BEGIN:DAYLIGHT
TZOFFSETFROM:-0700
TZOFFSETTO:-0600
TZNAME:MDT
DTSTART:20250309T090000
END:DAYLIGHT
BEGIN:STANDARD
TZOFFSETFROM:-0600
TZOFFSETTO:-0700
TZNAME:MST
DTSTART:20251102T080000
END:STANDARD
END:VTIMEZONE
BEGIN:VEVENT
DTSTART;TZID=America/Edmonton:20240321T190000
DTEND;TZID=America/Edmonton:20240502T200000
DTSTAMP:20260421T195806
CREATED:20240305T230851Z
LAST-MODIFIED:20240318T182812Z
UID:282954-1711047600-1714680000@stalbertfurthered.com
SUMMARY:Backyard Organic Gardening Seminars
DESCRIPTION:This series will provide the essentials that will put you on the right track to sustainable\, environmentally friendly\, and more cost-effective way of gardening\, removing dependency on synthetic fertilizers and chemical pesticides. \nJoin Master Garden\, Aida Mustapic to learn about the following gardening topics: \nTHURS\, MAR 21 – Growing Tomatoes from Seed \n\nLearn how to grow 6-8 ft tall tomato plants in your backyards using organic practices! \n\n\nThis class will teach you when to start tomato plants from seed indoors\, when and how to properly transition them outdoors\, what type or organic fertilizers to use and how frequently\, how to support and prune your tomatoes to maximize fruit production and more. \n\nTHURS\, APR 18 – Companion Planting \nCompanion planting is a large part of organic gardening. Companion plants are a natural pesticides\, natural fertilizers and attract beneficial insects and pollinators to our gardens. Learn how to put plants together that are mutually beneficial to each other\, the garden as a whole\, and the environment.   \nTHURS\, MAY 2 – Backyard & Worm Composting \nOrganic compost helps improve the soil quality and fertility\, reduce greenhouse gas emissions\, and provide plants with valuable nutrition. Good quality compost is a healthy and well-balanced fertilizer for your garden so this class will teach you how to make it in your own backyards\, reducing the food waste and recycling nutrients back into the soil. \nST ALBERT CENTRE MALL | $15/SEMINAR OR ALL 3 FOR $35  \nLearn the basics and then get out there and get your hands dirty!
URL:https://stalbertfurthered.com/event/backyard-organic-gardening-seminars/
LOCATION:St Albert Centre\, 213\, 375 St Albert Trail\, St Albert\, Alberta\, T8N 3K8\, Canada
CATEGORIES:Gardening,General Interest
ATTACH;FMTTYPE=image/jpeg:https://stalbertfurthered.com/wp-content/uploads/2023/03/Untitled-design-2023-03-08T094209.390.jpg
ORGANIZER;CN="St. Albert Further Education":MAILTO:admin@stalbertfurthered.com
END:VEVENT
END:VCALENDAR