BEGIN:VCALENDAR
VERSION:2.0
PRODID:-//St. Albert Further Ed - ECPv6.15.17.1//NONSGML v1.0//EN
CALSCALE:GREGORIAN
METHOD:PUBLISH
X-WR-CALNAME:St. Albert Further Ed
X-ORIGINAL-URL:https://stalbertfurthered.com
X-WR-CALDESC:Events for St. Albert Further Ed
REFRESH-INTERVAL;VALUE=DURATION:PT1H
X-Robots-Tag:noindex
X-PUBLISHED-TTL:PT1H
BEGIN:VTIMEZONE
TZID:America/Edmonton
BEGIN:DAYLIGHT
TZOFFSETFROM:-0700
TZOFFSETTO:-0600
TZNAME:MDT
DTSTART:20230312T090000
END:DAYLIGHT
BEGIN:STANDARD
TZOFFSETFROM:-0600
TZOFFSETTO:-0700
TZNAME:MST
DTSTART:20231105T080000
END:STANDARD
BEGIN:DAYLIGHT
TZOFFSETFROM:-0700
TZOFFSETTO:-0600
TZNAME:MDT
DTSTART:20240310T090000
END:DAYLIGHT
BEGIN:STANDARD
TZOFFSETFROM:-0600
TZOFFSETTO:-0700
TZNAME:MST
DTSTART:20241103T080000
END:STANDARD
BEGIN:DAYLIGHT
TZOFFSETFROM:-0700
TZOFFSETTO:-0600
TZNAME:MDT
DTSTART:20250309T090000
END:DAYLIGHT
BEGIN:STANDARD
TZOFFSETFROM:-0600
TZOFFSETTO:-0700
TZNAME:MST
DTSTART:20251102T080000
END:STANDARD
END:VTIMEZONE
BEGIN:VTIMEZONE
TZID:UTC
BEGIN:STANDARD
TZOFFSETFROM:+0000
TZOFFSETTO:+0000
TZNAME:UTC
DTSTART:20230101T000000
END:STANDARD
END:VTIMEZONE
BEGIN:VEVENT
DTSTART;TZID=America/Edmonton:20240321T190000
DTEND;TZID=America/Edmonton:20240502T200000
DTSTAMP:20260421T162933
CREATED:20240305T230851Z
LAST-MODIFIED:20240318T182812Z
UID:282954-1711047600-1714680000@stalbertfurthered.com
SUMMARY:Backyard Organic Gardening Seminars
DESCRIPTION:This series will provide the essentials that will put you on the right track to sustainable\, environmentally friendly\, and more cost-effective way of gardening\, removing dependency on synthetic fertilizers and chemical pesticides. \nJoin Master Garden\, Aida Mustapic to learn about the following gardening topics: \nTHURS\, MAR 21 – Growing Tomatoes from Seed \n\nLearn how to grow 6-8 ft tall tomato plants in your backyards using organic practices! \n\n\nThis class will teach you when to start tomato plants from seed indoors\, when and how to properly transition them outdoors\, what type or organic fertilizers to use and how frequently\, how to support and prune your tomatoes to maximize fruit production and more. \n\nTHURS\, APR 18 – Companion Planting \nCompanion planting is a large part of organic gardening. Companion plants are a natural pesticides\, natural fertilizers and attract beneficial insects and pollinators to our gardens. Learn how to put plants together that are mutually beneficial to each other\, the garden as a whole\, and the environment.   \nTHURS\, MAY 2 – Backyard & Worm Composting \nOrganic compost helps improve the soil quality and fertility\, reduce greenhouse gas emissions\, and provide plants with valuable nutrition. Good quality compost is a healthy and well-balanced fertilizer for your garden so this class will teach you how to make it in your own backyards\, reducing the food waste and recycling nutrients back into the soil. \nST ALBERT CENTRE MALL | $15/SEMINAR OR ALL 3 FOR $35  \nLearn the basics and then get out there and get your hands dirty!
URL:https://stalbertfurthered.com/event/backyard-organic-gardening-seminars/
LOCATION:St Albert Centre\, 213\, 375 St Albert Trail\, St Albert\, Alberta\, T8N 3K8\, Canada
CATEGORIES:Gardening,General Interest
ATTACH;FMTTYPE=image/jpeg:https://stalbertfurthered.com/wp-content/uploads/2023/03/Untitled-design-2023-03-08T094209.390.jpg
ORGANIZER;CN="St. Albert Further Education":MAILTO:admin@stalbertfurthered.com
END:VEVENT
BEGIN:VEVENT
DTSTART;TZID=America/Edmonton:20240408T180000
DTEND;TZID=America/Edmonton:20240522T200000
DTSTAMP:20260421T162933
CREATED:20240304T221954Z
LAST-MODIFIED:20240406T201601Z
UID:282918-1712599200-1716408000@stalbertfurthered.com
SUMMARY:English with a Focus on Phonetics - Level 1
DESCRIPTION:English with a Focus on Phonetics – Level 1\nConversation Focus: Start with “Hello\, how are you?” and become comfortable with simple conversations about family\, work\, and everyday situations.\nVocabulary/Grammar: Start learning common words (nouns\, pronouns\, verbs\, adjectives\, and prepositions) and using them correctly in sentences.\nPhonogram Focus: Learn to hear\, write\, read\, and correctly pronounce ALL the sounds for first 26 (of 70) phonograms.\nNote: Phonogram means a letter or group of letters which say one “voiced’ sound in a given word. \nThis class meets Mondays and Wednesdays\, 6:00-8pm. \nInstructor: Elaine Tahririha \nLocation: St Albert Centre mall \nNo class May 20 \nIf class is sold out – Please email here to be placed on the Wait List. \nRefund Information: \nCancellations: St. Albert Further Education reserves the right to cancel any class. A full refund will be issued for all cancelled classes. \nWithdrawals\, Transfers & Refunds: To withdraw from a class for a refund: • More than 7 days notification – full refund • Less than 7 days notification – credit voucher less 25% After class begins – no refund or credit Refunds may take up to four weeks to process. Refunds will not be issued for non-attendance. Classes will not be canceled due to severe weather. \nPlease note: Times and locations are subject to change
URL:https://stalbertfurthered.com/event/english-with-a-focus-on-phonetics-level-1-2/
LOCATION:St Albert Centre\, 213\, 375 St Albert Trail\, St Albert\, Alberta\, T8N 3K8\, Canada
CATEGORIES:English,Languages,Learning English
ATTACH;FMTTYPE=image/jpeg:https://stalbertfurthered.com/wp-content/uploads/2023/08/Untitled-design-2023-08-14T144110.854.jpg
ORGANIZER;CN="St. Albert Further Education":MAILTO:admin@stalbertfurthered.com
END:VEVENT
BEGIN:VEVENT
DTSTART;TZID=America/Edmonton:20240408T183000
DTEND;TZID=America/Edmonton:20240513T200000
DTSTAMP:20260421T162933
CREATED:20231204T234744Z
LAST-MODIFIED:20240307T215233Z
UID:282375-1712601000-1715630400@stalbertfurthered.com
SUMMARY:Ukulele - Intermediate 1
DESCRIPTION:Join our new second level Ukulele class and learn beyond the beginner class. Please bring your own ukulele \nParticipants should have at least a few months experience with the instrument\, and be fluent with basic chords. Course content will include further chord study\, including the use of various voicing and chord inversions to create colour in the music. Strum patterns will be taught for a number of musical styles\, with an emphasis on understanding the placement of the stresses in the rhythm of the style. Students will learn how to create their own rhythmic patterns for each musical style\, using syncopation and various strumming techniques. They will learn the notes on the fretboard thoroughly\, and how to play scales which fit with each music genre. \nInstructor: Gary Glewinski \nLocation: St. Albert Further Education\, 107 80 McKenney Ave\, St Albert (beside Reders store) \nRefund Information: \nCancellations: St. Albert Further Education reserves the right to cancel any class. A full refund will be issued for all cancelled classes. \nWithdrawals\, Transfers & Refunds: To withdraw from a class for a refund: • More than 7 days notification – full refund • Less than 7 days notification – credit voucher less 25% After class begins – no refund or credit Refunds may take up to four weeks to process. Refunds will not be issued for non-attendance. Classes will not be canceled due to severe weather. \nPlease note: Times and locations are subject to change \nIf class is sold out – Please email here to be placed on the Wait List.
URL:https://stalbertfurthered.com/event/ukulele-intermediate-1-2/
LOCATION:St. Albert Further Education\, 80 McKenney Ave #107\, St. Albert\, Alberta\, T8N 2G4\, Canada
CATEGORIES:Art,Music,Seniors
ATTACH;FMTTYPE=image/jpeg:https://stalbertfurthered.com/wp-content/uploads/2023/03/Untitled-design-2023-03-06T165421.869.jpg
ORGANIZER;CN="St. Albert Further Education":MAILTO:admin@stalbertfurthered.com
END:VEVENT
BEGIN:VEVENT
DTSTART;TZID=America/Edmonton:20240409T063000
DTEND;TZID=America/Edmonton:20240613T200000
DTSTAMP:20260421T162933
CREATED:20240304T221447Z
LAST-MODIFIED:20240304T221447Z
UID:282920-1712644200-1718308800@stalbertfurthered.com
SUMMARY:English Language Learning Intermediate Online
DESCRIPTION:Join this evening Intermediate class to improve your English Language Learning!  This is for CLB5-6. \nThis class meets online (zoom) Tuesdays and Thursdays\, 6:30-8:00pm. \nInstructor: Seun Oloruntegbe \nLocation: online \nIf class is sold out – Please email here to be placed on the Wait List. \nRefund Information: \nCancellations: St. Albert Further Education reserves the right to cancel any class. A full refund will be issued for all cancelled classes. \nWithdrawals\, Transfers & Refunds: To withdraw from a class for a refund: • More than 7 days notification – full refund • Less than 7 days notification – credit voucher less 25% After class begins – no refund or credit Refunds may take up to four weeks to process. Refunds will not be issued for non-attendance. Classes will not be canceled due to severe weather. \nPlease note: Times and locations are subject to change
URL:https://stalbertfurthered.com/event/english-language-learning-intermediate-online/
LOCATION:Online\, Canada
CATEGORIES:Education & Business,English,Languages,Learning English
ATTACH;FMTTYPE=image/jpeg:https://stalbertfurthered.com/wp-content/uploads/2022/08/Untitled-design-70.jpg
ORGANIZER;CN="St. Albert Further Education":MAILTO:admin@stalbertfurthered.com
END:VEVENT
BEGIN:VEVENT
DTSTART;TZID=America/Edmonton:20240409T183000
DTEND;TZID=America/Edmonton:20240531T200000
DTSTAMP:20260421T162933
CREATED:20240304T215847Z
LAST-MODIFIED:20240321T204459Z
UID:282914-1712687400-1717185600@stalbertfurthered.com
SUMMARY:English Language Learning Beginner Online
DESCRIPTION:In this Beginner English class (CLB1-2)\, we will focus on settlement in Canada. You will learn about banking\, grocery shopping\, restaurants\, job seeking\, housing\, going to the doctor\, money\, transportation\, asking and answering simple questions\, learning about the areas you live in etc. \nInstructor: Danielle Lee \nLocation: Online\, Tuesdays\, Thursdays & Saturdays Apr 9 – May 30\, 6:30-8:00pm(Tuesdays & Thursdays) and 6:30-8:30pm (Saturdays) online or in person at 107\, 80 McKenney Ave \nOnline learning gives you the flexibility to learn a new skill where ever you are.  Chrome or Firefox work best with our online classes. \nRefund Information: \nCancellations: St. Albert Further Education reserves the right to cancel any class. A full refund will be issued for all cancelled classes. \nWithdrawals\, Transfers & Refunds: To withdraw from a class for a refund: • More than 7 days notification – full refund • Less than 7 days notification – credit voucher less 25% After class begins – no refund or credit Refunds may take up to four weeks to process. Refunds will not be issued for non-attendance. Classes will not be canceled due to severe weather. \nPlease note: Times and locations are subject to change
URL:https://stalbertfurthered.com/event/english-language-learning-beginner-online/
LOCATION:Online\, Canada
CATEGORIES:Education & Business,English,Languages,Learning English
ATTACH;FMTTYPE=image/jpeg:https://stalbertfurthered.com/wp-content/uploads/2022/08/Untitled-design-68.jpg
ORGANIZER;CN="St. Albert Further Education":MAILTO:admin@stalbertfurthered.com
END:VEVENT
BEGIN:VEVENT
DTSTART;TZID=America/Edmonton:20240409T190000
DTEND;TZID=America/Edmonton:20240613T203000
DTSTAMP:20260421T162933
CREATED:20240304T220450Z
LAST-MODIFIED:20240304T220450Z
UID:282916-1712689200-1718310600@stalbertfurthered.com
SUMMARY:English Language Learning Pre-Intermediate Online
DESCRIPTION:In this Pre-Intermediate English class (CLB3-4)\, we will build on what you learned in Beginner English. \nInstructor: Anzhelika Telek \nLocation: Online\, Tuesdays and Thursdays\, Apr 9 – Jun 13\, 7-8:30pm \nOnline learning gives you the flexibility to learn a new skill where ever you are.  Chrome or Firefox work best with our online classes. \nRefund Information: \nCancellations: St. Albert Further Education reserves the right to cancel any class. A full refund will be issued for all cancelled classes. \nWithdrawals\, Transfers & Refunds: To withdraw from a class for a refund: • More than 7 days notification – full refund • Less than 7 days notification – credit voucher less 25% After class begins – no refund or credit Refunds may take up to four weeks to process. Refunds will not be issued for non-attendance. Classes will not be canceled due to severe weather. \nPlease note: Times and locations are subject to change
URL:https://stalbertfurthered.com/event/english-language-learning-pre-intermediate-online/
LOCATION:Online\, Canada
CATEGORIES:Education & Business,English,Languages,Learning English
ATTACH;FMTTYPE=image/jpeg:https://stalbertfurthered.com/wp-content/uploads/2022/08/Untitled-design-68.jpg
ORGANIZER;CN="St. Albert Further Education":MAILTO:admin@stalbertfurthered.com
END:VEVENT
BEGIN:VEVENT
DTSTART;TZID=America/Edmonton:20240410T183000
DTEND;TZID=America/Edmonton:20240529T203000
DTSTAMP:20260421T162933
CREATED:20240305T224220Z
LAST-MODIFIED:20240305T224220Z
UID:282950-1712773800-1717014600@stalbertfurthered.com
SUMMARY:Sewing Basics
DESCRIPTION:Learn to use a sewing machine in this 8 week class and create a simple garment from start to finish. In this course the basic sewing skills will be taught as well as how to select fabrics\, patterns\, sewing tools and supplies. You will also learn how to operate a sewing machine\, cut out fabrics\, read patterns and understand sewing terminology. \nPlease bring your own sewing machine and manual. Materials will need to be purchased after the first class. \nInstructor: Joanne Wozniak \nLocation: St. Albert Further Education office \n  \nPlease call 780-460-2207 if you have any questions. \n  \nIf class is sold out – Please email here to be placed on the Wait List.
URL:https://stalbertfurthered.com/event/sewing-basics-2/
LOCATION:St. Albert Further Education\, 80 McKenney Ave #107\, St. Albert\, Alberta\, T8N 2G4\, Canada
CATEGORIES:Art,Crafts
ATTACH;FMTTYPE=image/jpeg:https://stalbertfurthered.com/wp-content/uploads/2022/08/Untitled-design-49.jpg
ORGANIZER;CN="St. Albert Further Education":MAILTO:admin@stalbertfurthered.com
END:VEVENT
BEGIN:VEVENT
DTSTART;TZID=America/Edmonton:20240415T190000
DTEND;TZID=America/Edmonton:20240527T210000
DTSTAMP:20260421T162933
CREATED:20240229T191600Z
LAST-MODIFIED:20240313T215530Z
UID:282884-1713207600-1716843600@stalbertfurthered.com
SUMMARY:Spanish Level 3 In Person
DESCRIPTION:Learn the basics and beyond in our Spanish classes – useful expressions and dialogue\, pronunciation and vocabulary\, but also the proper grammar and sentence structure necessary for clear communication. Increase your knowledge and proficiency as levels progress. This course will review the basics of the Level 2 program and progress to a higher knowledge of proficiency of the language while using small group discussions. \nInstructor: Jorge Vargas \nTextbook: Easy Spanish\, Step-by-Step\, McGraw Hill – available at The Bookstore on Perron and amazon.ca  \nLocation:  St Albert Catholic High School \nIf class is sold out – Please email here to be placed on the Wait List. \nRefund Information: \nCancellations: St. Albert Further Education reserves the right to cancel any class. A full refund will be issued for all cancelled classes. \nWithdrawals\, Transfers & Refunds: To withdraw from a class for a refund: • More than 7 days notification – full refund • Less than 7 days notification – credit voucher less 25% After class begins – no refund or credit Refunds may take up to four weeks to process. Refunds will not be issued for non-attendance. Classes will not be canceled due to severe weather. \nPlease note: Times and locations are subject to change
URL:https://stalbertfurthered.com/event/spanish-level-3-in-person/
LOCATION:St Albert Catholic HIgh School\, 33 Malmo Avenue\, St. Albert\, Alberta\, T8N 1L5\, Canada
CATEGORIES:Spanish
ATTACH;FMTTYPE=image/jpeg:https://stalbertfurthered.com/wp-content/uploads/2022/08/Untitled-design-58.jpg
ORGANIZER;CN="St. Albert Further Education":MAILTO:admin@stalbertfurthered.com
END:VEVENT
BEGIN:VEVENT
DTSTART;TZID=UTC:20240416T190000
DTEND;TZID=UTC:20240521T210000
DTSTAMP:20260421T162933
CREATED:20240305T222527Z
LAST-MODIFIED:20240410T002026Z
UID:282948-1713294000-1716325200@stalbertfurthered.com
SUMMARY:Knitting - Build Your Skills
DESCRIPTION:This is a skills building class and therefore there is no set project. You must know how to cast-on\, knit\, purl\, and cast-off\, as these skills will not be taught in this class. \nJoin Sarah to work on the following: \nLesson 1: What the heck is gauge and swatching and why is this important. Tools required: size US8 (5mm) needles\, yarn\, tape measure \nLesson 2: My stitch count is wrong\, what now? And\, I knit the wrong stitch\, how do I correct it? Tools required: size US8 (5mm) needles\, yarn\, crochet hook (if you have one) \nLesson 3: Basic Cables\, they aren’t so scary. Tools required: size US8 (5mm) needles\, yarn\, cable needle \nLesson 4: Basic Colourwork and how to read a chart for knitting flat. Tools required: straight needles and two different colours of yarn. \nLesson 5: Basic Colourwork and how to read a chart for knitting in the round. Tools required: circular needles (16” length maximum) and two different colours of yarn. \nLesson 6: Let me help you with your current project and/or answer any burning questions. \nWorsted weight yarn and size US8 (5mm) needles \nInstructor: Sarah Kelly \nTuesdays\, Apr 16 – May 21\, 7-9pm \nLocation: St Albert Further Education office\, #107\, 80 McKenney Ave\, St. Albert (beside Reders store) \nRefund Information: \nCancellations: St. Albert Further Education reserves the right to cancel any class. A full refund will be issued for all cancelled classes. \nWithdrawals\, Transfers & Refunds: To withdraw from a class for a refund: • More than 7 days notification – full refund • Less than 7 days notification – credit voucher less 25% After class begins – no refund or credit Refunds may take up to four weeks to process. Refunds will not be issued for non-attendance. Classes will not be canceled due to severe weather. \nPlease note: Times and locations are subject to change
URL:https://stalbertfurthered.com/event/knitting-build-your-skills-2/
LOCATION:St. Albert Further Education\, 80 McKenney Ave #107\, St. Albert\, Alberta\, T8N 2G4\, Canada
CATEGORIES:Art,Crafts,General Interest,Seniors
ATTACH;FMTTYPE=image/jpeg:https://stalbertfurthered.com/wp-content/uploads/2022/08/Untitled-design-47.jpg
ORGANIZER;CN="St. Albert Further Education":MAILTO:admin@stalbertfurthered.com
END:VEVENT
BEGIN:VEVENT
DTSTART;TZID=America/Edmonton:20240416T190000
DTEND;TZID=America/Edmonton:20240604T210000
DTSTAMP:20260421T162933
CREATED:20240229T190304Z
LAST-MODIFIED:20240229T190304Z
UID:282880-1713294000-1717534800@stalbertfurthered.com
SUMMARY:Spanish Level 1 In Person
DESCRIPTION:Learn the basics and beyond in our Spanish classes – useful expressions and dialogue\, pronunciation and vocabulary\, but also the proper grammar and sentence structure necessary for clear communication. Increase your knowledge and proficiency as levels progress. This is a beginner course for those with little or no Spanish. \nInstructor: Byron Gonzoles \nTextbook: Easy Spanish\, Step-by-Step\, McGraw Hill – available at The Bookstore on Perron and amazon.ca  \nLocation:  St. Albert Catholic High School\, 33 Malmo Ave\, St. Albert (enter parking lot off of Mont Clare Place\, enter school in door Community Entrance) \nClass runs Tuesdays\, Apr 16-Jun 4 \nIf class is sold out – Please email here to be placed on the Wait List. \nRefund Information: \nCancellations: St. Albert Further Education reserves the right to cancel any class. A full refund will be issued for all cancelled classes. \nWithdrawals\, Transfers & Refunds: To withdraw from a class for a refund: • More than 7 days notification – full refund • Less than 7 days notification – credit voucher less 25% After class begins – no refund or credit Refunds may take up to four weeks to process. Refunds will not be issued for non-attendance. Classes will not be canceled due to severe weather. \nPlease note: Times and locations are subject to change
URL:https://stalbertfurthered.com/event/spanish-level-1-in-person-4/
LOCATION:St Albert Catholic HIgh School\, 33 Malmo Avenue\, St. Albert\, Alberta\, T8N 1L5\, Canada
CATEGORIES:Languages,Spanish
ATTACH;FMTTYPE=image/jpeg:https://stalbertfurthered.com/wp-content/uploads/2022/08/Untitled-design-60.jpg
ORGANIZER;CN="St. Albert Further Education":MAILTO:admin@stalbertfurthered.com
END:VEVENT
BEGIN:VEVENT
DTSTART;TZID=America/Edmonton:20240417T183000
DTEND;TZID=America/Edmonton:20240522T203000
DTSTAMP:20260421T162933
CREATED:20240229T193140Z
LAST-MODIFIED:20240415T131642Z
UID:282888-1713378600-1716409800@stalbertfurthered.com
SUMMARY:French Level 1
DESCRIPTION:Learn French through interactive activities and conversation. Focus on basic vocabulary\, pronunciation\, expression and comprehension in a variety of common practical solutions with some emphasis on proper grammar and sentence structure necessary for clear communication. Increase your knowledge and proficiency as levels progress. \nInstructor: Isabelle Demers \nSt Albert Catholic High School\, 33 Malmo Ave (enter school parking lot off of Mont Clare Place and enter the school in middle doors Community Entrance) \nWednesdays\, Apr 17 – May 22 \nRefund Information: \nCancellations: St. Albert Further Education reserves the right to cancel any class. A full refund will be issued for all cancelled classes. \nWithdrawals\, Transfers & Refunds: To withdraw from a class for a refund: • More than 7 days notification – full refund • Less than 7 days notification – credit voucher less 25% After class begins – no refund or credit Refunds may take up to four weeks to process. Refunds will not be issued for non-attendance. Classes will not be canceled due to severe weather. \nPlease note: Times and locations are subject to change \nIf class is sold out – Please email here to be placed on the Wait List.
URL:https://stalbertfurthered.com/event/french-level-1-3/
LOCATION:St Albert Catholic HIgh School\, 33 Malmo Avenue\, St. Albert\, Alberta\, T8N 1L5\, Canada
CATEGORIES:French,Languages
ATTACH;FMTTYPE=image/jpeg:https://stalbertfurthered.com/wp-content/uploads/2022/07/Untitled-design-8.jpg
ORGANIZER;CN="St. Albert Further Education":MAILTO:admin@stalbertfurthered.com
END:VEVENT
BEGIN:VEVENT
DTSTART;TZID=America/Edmonton:20240417T183000
DTEND;TZID=America/Edmonton:20240608T200000
DTSTAMP:20260421T162933
CREATED:20240304T232724Z
LAST-MODIFIED:20240304T232724Z
UID:282913-1713378600-1717876800@stalbertfurthered.com
SUMMARY:Reading & Writing Intermediate/Advanced
DESCRIPTION:Join this evening Advanced class to improve your reading and writing in English!  This class is perfect to help prepare for writing IELTS and CELPIP.  This is for CLB5+. \nThis class meets Wednesdays online at 6:30-8pm and Saturdays\, 10am-12pm in person at the St Albert Further Education\, 107\, 80 McKenney Ave \nInstructor: Susanne Urbina\, TESL \nLocation: online and St Albert Further Education \nIf class is sold out – Please email here to be placed on the Wait List. \nRefund Information: \nCancellations: St. Albert Further Education reserves the right to cancel any class. A full refund will be issued for all cancelled classes. \nWithdrawals\, Transfers & Refunds: To withdraw from a class for a refund: • More than 7 days notification – full refund • Less than 7 days notification – credit voucher less 25% After class begins – no refund or credit Refunds may take up to four weeks to process. Refunds will not be issued for non-attendance. Classes will not be canceled due to severe weather. \nPlease note: Times and locations are subject to change
URL:https://stalbertfurthered.com/event/reading-writing-intermediate-advanced-2/
LOCATION:St. Albert Further Education\, 80 McKenney Ave #107\, St. Albert\, Alberta\, T8N 2G4\, Canada
CATEGORIES:Education & Business,English,Languages,Learning English
ATTACH;FMTTYPE=image/jpeg:https://stalbertfurthered.com/wp-content/uploads/2022/08/Untitled-design-70.jpg
ORGANIZER;CN="St. Albert Further Education":MAILTO:admin@stalbertfurthered.com
END:VEVENT
BEGIN:VEVENT
DTSTART;TZID=America/Edmonton:20240417T190000
DTEND;TZID=America/Edmonton:20240605T210000
DTSTAMP:20260421T162933
CREATED:20240229T191113Z
LAST-MODIFIED:20240229T191113Z
UID:282882-1713380400-1717621200@stalbertfurthered.com
SUMMARY:Spanish Level 2 In Person
DESCRIPTION:Learn the basics and beyond in our Spanish classes – useful expressions and dialogue\, pronunciation and vocabulary\, but also the proper grammar and sentence structure necessary for clear communication. Increase your knowledge and proficiency as levels progress. Build on the basics to learn improve your pronunciation and learn more phrases.  Pre-requisite Spanish Level 1 or equivalent. \nInstructor: Byron Gonzoles \nTextbook: Easy Spanish\, Step-by-Step\, McGraw Hill – available at The Bookstore on Perron and amazon.ca  \nLocation:  St. Albert Catholic High School\, 33 Malmo Ave\, St. Albert (enter parking lot off of Mont Clare Place\, enter school in door Community Entrance) \nClass runs Wednesdays\, Apr 17-Jun 5 \nIf class is sold out – Please email here to be placed on the Wait List. \nRefund Information: \nCancellations: St. Albert Further Education reserves the right to cancel any class. A full refund will be issued for all cancelled classes. \nWithdrawals\, Transfers & Refunds: To withdraw from a class for a refund: • More than 7 days notification – full refund • Less than 7 days notification – credit voucher less 25% After class begins – no refund or credit Refunds may take up to four weeks to process. Refunds will not be issued for non-attendance. Classes will not be canceled due to severe weather. \nPlease note: Times and locations are subject to change
URL:https://stalbertfurthered.com/event/spanish-level-2-in-person/
LOCATION:St Albert Catholic HIgh School\, 33 Malmo Avenue\, St. Albert\, Alberta\, T8N 1L5\, Canada
CATEGORIES:Languages,Spanish
ATTACH;FMTTYPE=image/jpeg:https://stalbertfurthered.com/wp-content/uploads/2022/08/Untitled-design-60.jpg
ORGANIZER;CN="St. Albert Further Education":MAILTO:admin@stalbertfurthered.com
END:VEVENT
END:VCALENDAR