BEGIN:VCALENDAR
VERSION:2.0
PRODID:-//St. Albert Further Ed - ECPv6.15.17.1//NONSGML v1.0//EN
CALSCALE:GREGORIAN
METHOD:PUBLISH
X-WR-CALNAME:St. Albert Further Ed
X-ORIGINAL-URL:https://stalbertfurthered.com
X-WR-CALDESC:Events for St. Albert Further Ed
REFRESH-INTERVAL;VALUE=DURATION:PT1H
X-Robots-Tag:noindex
X-PUBLISHED-TTL:PT1H
BEGIN:VTIMEZONE
TZID:America/Edmonton
BEGIN:DAYLIGHT
TZOFFSETFROM:-0700
TZOFFSETTO:-0600
TZNAME:MDT
DTSTART:20230312T090000
END:DAYLIGHT
BEGIN:STANDARD
TZOFFSETFROM:-0600
TZOFFSETTO:-0700
TZNAME:MST
DTSTART:20231105T080000
END:STANDARD
BEGIN:DAYLIGHT
TZOFFSETFROM:-0700
TZOFFSETTO:-0600
TZNAME:MDT
DTSTART:20240310T090000
END:DAYLIGHT
BEGIN:STANDARD
TZOFFSETFROM:-0600
TZOFFSETTO:-0700
TZNAME:MST
DTSTART:20241103T080000
END:STANDARD
BEGIN:DAYLIGHT
TZOFFSETFROM:-0700
TZOFFSETTO:-0600
TZNAME:MDT
DTSTART:20250309T090000
END:DAYLIGHT
BEGIN:STANDARD
TZOFFSETFROM:-0600
TZOFFSETTO:-0700
TZNAME:MST
DTSTART:20251102T080000
END:STANDARD
BEGIN:DAYLIGHT
TZOFFSETFROM:-0700
TZOFFSETTO:-0600
TZNAME:MDT
DTSTART:20260308T090000
END:DAYLIGHT
BEGIN:STANDARD
TZOFFSETFROM:-0600
TZOFFSETTO:-0700
TZNAME:MST
DTSTART:20261101T080000
END:STANDARD
BEGIN:DAYLIGHT
TZOFFSETFROM:-0700
TZOFFSETTO:-0600
TZNAME:MDT
DTSTART:20270314T090000
END:DAYLIGHT
BEGIN:STANDARD
TZOFFSETFROM:-0600
TZOFFSETTO:-0700
TZNAME:MST
DTSTART:20271107T080000
END:STANDARD
BEGIN:DAYLIGHT
TZOFFSETFROM:-0700
TZOFFSETTO:-0600
TZNAME:MDT
DTSTART:20280312T090000
END:DAYLIGHT
BEGIN:STANDARD
TZOFFSETFROM:-0600
TZOFFSETTO:-0700
TZNAME:MST
DTSTART:20281105T080000
END:STANDARD
END:VTIMEZONE
BEGIN:VEVENT
DTSTART;TZID=America/Edmonton:20240801T183000
DTEND;TZID=America/Edmonton:20260630T193000
DTSTAMP:20260425T123046
CREATED:20220628T225504Z
LAST-MODIFIED:20260108T172034Z
UID:279237-1722537000-1782847800@stalbertfurthered.com
SUMMARY:Evening Conversation Circle - Tuesdays
DESCRIPTION:Join us at the St Albert Public Library (5 St. Anne St) on Tuesday evenings at 6:30-7:30pm to practice speaking English and share with others.
URL:https://stalbertfurthered.com/event/evening-conversation-circle-tuesdays/
LOCATION:St. Albert Public Library\, 5 St. Anne Street\, St Albert\, Alberta\, T8N 3Z9\, Canada
CATEGORIES:Newcomer Events
ATTACH;FMTTYPE=image/jpeg:https://stalbertfurthered.com/wp-content/uploads/2022/06/Untitled-design-82.jpg
ORGANIZER;CN="St. Albert Further Education":MAILTO:admin@stalbertfurthered.com
END:VEVENT
BEGIN:VEVENT
DTSTART;TZID=America/Edmonton:20250108T103000
DTEND;TZID=America/Edmonton:20260624T113000
DTSTAMP:20260425T123046
CREATED:20250729T164534Z
LAST-MODIFIED:20260108T171803Z
UID:284957-1736332200-1782300600@stalbertfurthered.com
SUMMARY:Wednesday Morning Conversation Circle
DESCRIPTION:Please join us for conversation and fun on Wednesdays from 10:30am-11:30am.  We will be at the St Albert Seniors Association 7 Tache St. \nThis activity is for all levels of learners who want to practice speaking English and meet other newcomers.
URL:https://stalbertfurthered.com/event/wednesday-morning-conversation-circle/
LOCATION:St. Albert Seniors Association\, 7 Tache St\, St. Albert
CATEGORIES:Newcomer Events
ATTACH;FMTTYPE=image/jpeg:https://stalbertfurthered.com/wp-content/uploads/2023/02/Untitled-design-2023-03-08T104034.720.jpg
ORGANIZER;CN="St. Albert Further Education":MAILTO:admin@stalbertfurthered.com
END:VEVENT
BEGIN:VEVENT
DTSTART;TZID=America/Edmonton:20260101T130000
DTEND;TZID=America/Edmonton:20270722T140000
DTSTAMP:20260425T123046
CREATED:20230221T182845Z
LAST-MODIFIED:20260108T171921Z
UID:281091-1767272400-1816264800@stalbertfurthered.com
SUMMARY:Thursday Afternoon Conversation Circle
DESCRIPTION:Please join us for conversation and fun on Thursdays from 1:00 – 2:00 pm.  We will be at the St Albert Centre mall. \nThis activity is for all levels of learners who want to practice speaking English and meet other newcomers.
URL:https://stalbertfurthered.com/event/coffee-conversation/
LOCATION:St Albert Centre\, 213\, 375 St Albert Trail\, St Albert\, Alberta\, T8N 3K8\, Canada
CATEGORIES:Newcomer Events
ATTACH;FMTTYPE=image/jpeg:https://stalbertfurthered.com/wp-content/uploads/2023/02/Untitled-design-2023-03-08T104034.720.jpg
ORGANIZER;CN="St. Albert Further Education":MAILTO:admin@stalbertfurthered.com
END:VEVENT
BEGIN:VEVENT
DTSTART;TZID=America/Edmonton:20260104T100000
DTEND;TZID=America/Edmonton:20261227T113000
DTSTAMP:20260425T123046
CREATED:20220628T224025Z
LAST-MODIFIED:20260108T172208Z
UID:279232-1767520800-1798371000@stalbertfurthered.com
SUMMARY:Conversation Circle - Saturday
DESCRIPTION:Please join us for conversation and fun on Saturday mornings from 10:00am-11:30am.  We will be at the St Albert Centre mall. \nThis activity is for all levels of learners who want to practice speaking English and meet other newcomers. \n 
URL:https://stalbertfurthered.com/event/conversation-circle-saturday/
LOCATION:St Albert Centre\, 213\, 375 St Albert Trail\, St Albert\, Alberta\, T8N 3K8\, Canada
CATEGORIES:Newcomer Events
ATTACH;FMTTYPE=image/jpeg:https://stalbertfurthered.com/wp-content/uploads/2022/08/Untitled-design-65.jpg
ORGANIZER;CN="St. Albert Further Education":MAILTO:admin@stalbertfurthered.com
END:VEVENT
BEGIN:VEVENT
DTSTART;TZID=America/Edmonton:20260410T090000
DTEND;TZID=America/Edmonton:20260619T120000
DTSTAMP:20260425T123046
CREATED:20260225T181807Z
LAST-MODIFIED:20260225T181807Z
UID:285847-1775811600-1781870400@stalbertfurthered.com
SUMMARY:English School - Beginner - Focus on Reading & Writing (CLB 0-2)
DESCRIPTION:Are you waiting to get into LINC English Classes? The wait list is long so take our “Link to LINC” course to help you get the skills to move from one level to the next before going into the LINC Program. Take your assessment in our office and we’ll place you in the right level. Call our office and come and try a class. All English Language Learners are welcome including temporary residents\, temporary foreign workers\, and visitors to Canada. See our classes in Speaking\, Listening and Reading and Writing to help you to get a job or to participate in our great community \nInstructor: Jamila Nader \nLocation: St Albert Further Centre mall #213 \nFridays\, April 10- June 19\, 9am-12pm \nIf class is sold out – Please email here to be placed on the Wait List. \nRefund Information: \nCancellations: St. Albert Further Education reserves the right to cancel any class. Cancelled classes will be rescheduled or a full refund will be issued. \nWithdrawals\, Transfers & Refunds: To withdraw from a class for a refund: • More than 7 days notification – full refund • After class begins – no refund or credit. Refunds will not be issued for non-attendance. \nPlease note: Times and locations are subject to change
URL:https://stalbertfurthered.com/event/english-school-beginner-focus-on-reading-writing-clb-0-2-3/
LOCATION:St Albert Centre\, 213\, 375 St Albert Trail\, St Albert\, Alberta\, T8N 3K8\, Canada
CATEGORIES:Education & Business,English,Learning English
ATTACH;FMTTYPE=image/jpeg:https://stalbertfurthered.com/wp-content/uploads/2022/08/Untitled-design-69.jpg
ORGANIZER;CN="St. Albert Further Education":MAILTO:admin@stalbertfurthered.com
END:VEVENT
BEGIN:VEVENT
DTSTART;TZID=America/Edmonton:20260410T123000
DTEND;TZID=America/Edmonton:20260619T143000
DTSTAMP:20260425T123046
CREATED:20260225T191243Z
LAST-MODIFIED:20260225T191243Z
UID:285851-1775824200-1781879400@stalbertfurthered.com
SUMMARY:English-Basic Grammar  (CLB 0-1)
DESCRIPTION:For those with little or no English\, you are welcome to take our class to learn common words\, greetings and more. You will learn the high frequency vocabulary needed as Newcomers to Canada.\nThis class meets Fridays\, Apr 10 – June 19\, 12:30-2:30pm. \nInstructor: Jamila Nader \nLocation: St. Albert Centre mall office (across from Tip Top)\, 375 St. Albert Trail \nCost of the class is $100 \nIf class is sold out – Please email here to be placed on the Wait List. \nRefund Information: \nCancellations: St. Albert Further Education reserves the right to cancel any class. A full refund will be issued for all cancelled classes. \nWithdrawals\, Transfers & Refunds: To withdraw from a class for a refund: • More than 7 days notification – full refund •  After class begins – no refund or credit. Refunds will not be issued for non-attendance. Classes cancelled by St Albert Further Education due to emergencies will be rescheduled or fully refunded. \nPlease note: Times and locations are subject to change
URL:https://stalbertfurthered.com/event/english-basic-grammar-clb-0-1/
LOCATION:St Albert Centre\, 213\, 375 St Albert Trail\, St Albert\, Alberta\, T8N 3K8\, Canada
CATEGORIES:English,Languages,Learning English
ATTACH;FMTTYPE=image/jpeg:https://stalbertfurthered.com/wp-content/uploads/2024/08/Add-a-little-bit-of-body-text-13.jpg
ORGANIZER;CN="St. Albert Further Education":MAILTO:admin@stalbertfurthered.com
END:VEVENT
END:VCALENDAR