BEGIN:VCALENDAR
VERSION:2.0
PRODID:-//St. Albert Further Ed - ECPv6.15.17.1//NONSGML v1.0//EN
CALSCALE:GREGORIAN
METHOD:PUBLISH
X-WR-CALNAME:St. Albert Further Ed
X-ORIGINAL-URL:https://stalbertfurthered.com
X-WR-CALDESC:Events for St. Albert Further Ed
REFRESH-INTERVAL;VALUE=DURATION:PT1H
X-Robots-Tag:noindex
X-PUBLISHED-TTL:PT1H
BEGIN:VTIMEZONE
TZID:UTC
BEGIN:STANDARD
TZOFFSETFROM:+0000
TZOFFSETTO:+0000
TZNAME:UTC
DTSTART:20210101T000000
END:STANDARD
END:VTIMEZONE
BEGIN:VEVENT
DTSTART;TZID=UTC:20221001T103000
DTEND;TZID=UTC:20221001T123000
DTSTAMP:20260419T185532
CREATED:20220917T162649Z
LAST-MODIFIED:20221001T141612Z
UID:280090-1664620200-1664627400@stalbertfurthered.com
SUMMARY:Human Library - Computer Literacy
DESCRIPTION:Computer Literacy is presented by Connie Clark of Mission Computers. \nToday we need the knowledge and ability to use computers and related technology efficiently. \nAsk Connie any questions you may have about how to use Microsoft related programs such as Excel\, Word\, Outlook\, OneDrive\, OneNote\, Teams or SharePoint. Connie can also answer general end-user questions about the operation and tips and tricks for iPhones\, iPads\, social media\, web surfing and more. \nHuman Libraries started in 2003 in Denmark. They provide a safe and welcoming environment in which participants can learn more about individuals in their community by “borrowing” a person. This “Human Book” shares one-on-one time with you to learn about their life\, job\, and more. You can listen. You can ask questions. You can learn. You can open your mind. You can change your beliefs about different people and cultures. \nBook your 15 minute spot with our Literacy expert.
URL:https://stalbertfurthered.com/event/human-library-oct-1-computer-literacy/
LOCATION:St. Albert Public Library\, 5 St. Anne Street\, St Albert\, Alberta\, T8N 3Z9\, Canada
CATEGORIES:Human Library
ATTACH;FMTTYPE=image/jpeg:https://stalbertfurthered.com/wp-content/uploads/2022/09/Untitled-1280-×-720-px-3.jpg
ORGANIZER;CN="St. Albert Further Education":MAILTO:admin@stalbertfurthered.com
END:VEVENT
BEGIN:VEVENT
DTSTART;TZID=UTC:20221001T103000
DTEND;TZID=UTC:20221001T123000
DTSTAMP:20260419T185532
CREATED:20220915T230939Z
LAST-MODIFIED:20221001T145027Z
UID:280082-1664620200-1664627400@stalbertfurthered.com
SUMMARY:Human Library - Fitness Literacy
DESCRIPTION:Fitness Literacy is presented by Lona Montgomery of Manitou Fitness  \nLona Montgomery has a wide range of experience in the fitness world. She has been teaching fitness for 36 years for adults\, children\, young adults family and intergenerational groups. Fitness Courses and development of courses are related to all elements of Fitness ie) Nutrition\, Emotional Well-being\, Relaxation\, Healthy workplace\, Spirituality and Exercise fundamentals \nHuman Libraries started in 2003 in Denmark. They provide a safe and welcoming environment in which participants can learn more about individuals in their community by “borrowing” a person. This “Human Book” shares one-on-one time with you to learn about their life\, job\, and more. You can listen. You can ask questions. You can learn. You can open your mind. You can change your beliefs about different people and cultures. \nBook your 15 minute spot with our Literacy expert.
URL:https://stalbertfurthered.com/event/human-library-oct-1-fitness-literacy/
LOCATION:St. Albert Public Library\, 5 St. Anne Street\, St Albert\, Alberta\, T8N 3Z9\, Canada
CATEGORIES:Human Library
ATTACH;FMTTYPE=image/jpeg:https://stalbertfurthered.com/wp-content/uploads/2022/09/Untitled-design-87.jpg
ORGANIZER;CN="St. Albert Further Education":MAILTO:admin@stalbertfurthered.com
END:VEVENT
BEGIN:VEVENT
DTSTART;TZID=UTC:20221001T103000
DTEND;TZID=UTC:20221001T123000
DTSTAMP:20260419T185532
CREATED:20220915T214003Z
LAST-MODIFIED:20221001T143633Z
UID:280051-1664620200-1664627400@stalbertfurthered.com
SUMMARY:Human Library - Civic Literacy
DESCRIPTION:Civic Literacy is presented by MLA Marie Renaud who has served as MLA for St. Albert since 2015 and she will share how important it is for citizens in our community to have the knowledge to participate effectively in civic life by finding resources to stay informed\, understanding governmental processes\, and Knowing how to exercise our rights and obligations of citizenship at local\, provincial\, national and global levels. \nHuman Libraries started in 2003 in Denmark. They provide a safe and welcoming environment in which participants can learn more about individuals in their community by “borrowing” a person. This “Human Book” shares one-on-one time with you to learn about their life\, job\, and more. You can listen. You can ask questions. You can learn. You can open your mind. You can change your beliefs about different people and cultures. \nBook your 15 minute spot with our Literacy expert.
URL:https://stalbertfurthered.com/event/human-library-oct-1-civic-literacy/
LOCATION:St. Albert Public Library\, 5 St. Anne Street\, St Albert\, Alberta\, T8N 3Z9\, Canada
CATEGORIES:Human Library
ATTACH;FMTTYPE=image/jpeg:https://stalbertfurthered.com/wp-content/uploads/2022/09/Untitled-1280-×-720-px-6.jpg
ORGANIZER;CN="St. Albert Further Education":MAILTO:admin@stalbertfurthered.com
END:VEVENT
BEGIN:VEVENT
DTSTART;TZID=UTC:20221001T103000
DTEND;TZID=UTC:20221001T123000
DTSTAMP:20260419T185532
CREATED:20220915T164325Z
LAST-MODIFIED:20221001T140026Z
UID:280026-1664620200-1664627400@stalbertfurthered.com
SUMMARY:Human Library - Sport Literacy
DESCRIPTION:Sports Literacy is presented by Former Pro Boxer Ken Lakusta. Having fought Joe Fraser and sparred with Mike Tyson\, Ken knows that as an athlete\, understanding the role sport plays in society is key as well as recognizing and accepting the discipline necessary to excel at a sport. In addition\, one needs to put your sports skills and knowledge to functional use for informed and engaged citizenship. \nHuman Libraries started in 2003 in Denmark. They provide a safe and welcoming environment in which participants can learn more about individuals in their community by “borrowing” a person. This “Human Book” shares one-on-one time with you to learn about their life\, job\, and more. You can listen. You can ask questions. You can learn. You can open your mind. You can change your beliefs about different people and cultures. \nBook your 15 minute spot with our Literacy expert.
URL:https://stalbertfurthered.com/event/human-library-oct-1-sport-literacy/
LOCATION:St. Albert Public Library\, 5 St. Anne Street\, St Albert\, Alberta\, T8N 3Z9\, Canada
CATEGORIES:Human Library
ATTACH;FMTTYPE=image/jpeg:https://stalbertfurthered.com/wp-content/uploads/2022/09/Untitled-1280-×-720-px.jpg
ORGANIZER;CN="St. Albert Further Education":MAILTO:admin@stalbertfurthered.com
END:VEVENT
END:VCALENDAR