BEGIN:VCALENDAR
VERSION:2.0
PRODID:-//St. Albert Further Ed - ECPv6.15.17.1//NONSGML v1.0//EN
CALSCALE:GREGORIAN
METHOD:PUBLISH
X-ORIGINAL-URL:https://stalbertfurthered.com
X-WR-CALDESC:Events for St. Albert Further Ed
REFRESH-INTERVAL;VALUE=DURATION:PT1H
X-Robots-Tag:noindex
X-PUBLISHED-TTL:PT1H
BEGIN:VTIMEZONE
TZID:America/Edmonton
BEGIN:DAYLIGHT
TZOFFSETFROM:-0700
TZOFFSETTO:-0600
TZNAME:MDT
DTSTART:20210314T090000
END:DAYLIGHT
BEGIN:STANDARD
TZOFFSETFROM:-0600
TZOFFSETTO:-0700
TZNAME:MST
DTSTART:20211107T080000
END:STANDARD
BEGIN:DAYLIGHT
TZOFFSETFROM:-0700
TZOFFSETTO:-0600
TZNAME:MDT
DTSTART:20220313T090000
END:DAYLIGHT
BEGIN:STANDARD
TZOFFSETFROM:-0600
TZOFFSETTO:-0700
TZNAME:MST
DTSTART:20221106T080000
END:STANDARD
BEGIN:DAYLIGHT
TZOFFSETFROM:-0700
TZOFFSETTO:-0600
TZNAME:MDT
DTSTART:20230312T090000
END:DAYLIGHT
BEGIN:STANDARD
TZOFFSETFROM:-0600
TZOFFSETTO:-0700
TZNAME:MST
DTSTART:20231105T080000
END:STANDARD
BEGIN:DAYLIGHT
TZOFFSETFROM:-0700
TZOFFSETTO:-0600
TZNAME:MDT
DTSTART:20240310T090000
END:DAYLIGHT
BEGIN:STANDARD
TZOFFSETFROM:-0600
TZOFFSETTO:-0700
TZNAME:MST
DTSTART:20241103T080000
END:STANDARD
END:VTIMEZONE
BEGIN:VTIMEZONE
TZID:UTC
BEGIN:STANDARD
TZOFFSETFROM:+0000
TZOFFSETTO:+0000
TZNAME:UTC
DTSTART:20210101T000000
END:STANDARD
END:VTIMEZONE
BEGIN:VEVENT
DTSTART;TZID=America/Edmonton:20230314T183000
DTEND;TZID=America/Edmonton:20230314T193000
DTSTAMP:20260419T222931
CREATED:20221207T233229Z
LAST-MODIFIED:20230308T174607Z
UID:280692-1678818600-1678822200@stalbertfurthered.com
SUMMARY:Understanding Credit Basics in Canada 2
DESCRIPTION:Ceyda (Jeyda) Isliel will be facilitating a class on Understanding Credit in Canada for Newcomers who now call Alberta home. She will help you to understand credit report and credit scores\, who creates your credit\, who can see and use your credit report\, what information is in your report and much more. Ceyda is a Financial Advisor at Servus Credit Union in St Albert and understands the challenges of adapting to a new financial and economic system. \n Tuesday\, March 14 at 6:30-7:30pm at St. Albert Centre\, unit #213
URL:https://stalbertfurthered.com/event/understanding-credit-basics-in-canada-2/
LOCATION:St Albert Centre\, 213\, 375 St Albert Trail\, St Albert\, Alberta\, T8N 3K8\, Canada
CATEGORIES:Financial,Newcomer Events
ATTACH;FMTTYPE=image/jpeg:https://stalbertfurthered.com/wp-content/uploads/2022/12/Untitled-design-2022-12-07T162247.140.jpg
ORGANIZER;CN="St. Albert Further Education":MAILTO:admin@stalbertfurthered.com
END:VEVENT
BEGIN:VEVENT
DTSTART;TZID=UTC:20220816T183000
DTEND;TZID=UTC:20220927T200000
DTSTAMP:20260419T222931
CREATED:20220816T164920Z
LAST-MODIFIED:20220901T220647Z
UID:279528-1660674600-1664308800@stalbertfurthered.com
SUMMARY:Conversation Circle Tuesday evenings
DESCRIPTION:Please join us for conversation and fun on Tuesday evenings from 6:30-8pm.  We will be at the St Albert Centre location which is beside the Hudson Bay. \nThis activity is for all levels of learners who want to practice speaking English and meet other newcomers.
URL:https://stalbertfurthered.com/event/conversation-circle-tuesday-evenings/
LOCATION:St Albert Centre\, 213\, 375 St Albert Trail\, St Albert\, Alberta\, T8N 3K8\, Canada
CATEGORIES:Newcomer Events
ATTACH;FMTTYPE=image/jpeg:https://stalbertfurthered.com/wp-content/uploads/2022/08/Untitled-design-65.jpg
ORGANIZER;CN="St. Albert Further Education":MAILTO:admin@stalbertfurthered.com
END:VEVENT
BEGIN:VEVENT
DTSTART;TZID=America/Edmonton:20220714T120000
DTEND;TZID=America/Edmonton:20220714T140000
DTSTAMP:20260419T222931
CREATED:20220616T233346Z
LAST-MODIFIED:20220628T221304Z
UID:279177-1657800000-1657807200@stalbertfurthered.com
SUMMARY:Newcomer Men's Event
DESCRIPTION:Join us in the park for food and fun
URL:https://stalbertfurthered.com/event/newcomer-mens-event/
LOCATION:St. Albert Further Education\, 80 McKenney Ave #107\, St. Albert\, Alberta\, T8N 2G4\, Canada
CATEGORIES:Newcomer Events
ORGANIZER;CN="St. Albert Further Education":MAILTO:admin@stalbertfurthered.com
END:VEVENT
END:VCALENDAR