BEGIN:VCALENDAR
VERSION:2.0
PRODID:-//St. Albert Further Ed - ECPv6.15.17.1//NONSGML v1.0//EN
CALSCALE:GREGORIAN
METHOD:PUBLISH
X-WR-CALNAME:St. Albert Further Ed
X-ORIGINAL-URL:https://stalbertfurthered.com
X-WR-CALDESC:Events for St. Albert Further Ed
REFRESH-INTERVAL;VALUE=DURATION:PT1H
X-Robots-Tag:noindex
X-PUBLISHED-TTL:PT1H
BEGIN:VTIMEZONE
TZID:America/Edmonton
BEGIN:DAYLIGHT
TZOFFSETFROM:-0700
TZOFFSETTO:-0600
TZNAME:MDT
DTSTART:20230312T090000
END:DAYLIGHT
BEGIN:STANDARD
TZOFFSETFROM:-0600
TZOFFSETTO:-0700
TZNAME:MST
DTSTART:20231105T080000
END:STANDARD
BEGIN:DAYLIGHT
TZOFFSETFROM:-0700
TZOFFSETTO:-0600
TZNAME:MDT
DTSTART:20240310T090000
END:DAYLIGHT
BEGIN:STANDARD
TZOFFSETFROM:-0600
TZOFFSETTO:-0700
TZNAME:MST
DTSTART:20241103T080000
END:STANDARD
BEGIN:DAYLIGHT
TZOFFSETFROM:-0700
TZOFFSETTO:-0600
TZNAME:MDT
DTSTART:20250309T090000
END:DAYLIGHT
BEGIN:STANDARD
TZOFFSETFROM:-0600
TZOFFSETTO:-0700
TZNAME:MST
DTSTART:20251102T080000
END:STANDARD
END:VTIMEZONE
BEGIN:VTIMEZONE
TZID:UTC
BEGIN:STANDARD
TZOFFSETFROM:+0000
TZOFFSETTO:+0000
TZNAME:UTC
DTSTART:20230101T000000
END:STANDARD
END:VTIMEZONE
BEGIN:VEVENT
DTSTART;TZID=America/Edmonton:20240112T130000
DTEND;TZID=America/Edmonton:20240209T160000
DTSTAMP:20260424T063808
CREATED:20231205T182200Z
LAST-MODIFIED:20240106T230524Z
UID:282411-1705064400-1707494400@stalbertfurthered.com
SUMMARY:Phonetics for Tutors and Instructors
DESCRIPTION:Learn a no fail method for teaching children or adults writing\, spelling and reading skills. Based on The Writing Road to Reading\, you will learn an effective step-by-step building block approach to teaching complete phonetics through teaching proper hand writing skills and rules of phonetics\, spelling and syllabication. \nFriday\, Jan 12: Session 1 – Proper printing\, all the sounds for the alphabet\, spelling rules\, teaching techniques to make learning fun and fast \nFriday\, Jan 26: Session 2 – 2\,3\,4 letter phonograms sounds and rules\, more rules for spelling and syllabication. \nFriday\, Feb 9: Session 3 – review all 70 phonograms\, apply rules while teaching spelling\, how to teach reading. \nInstructor: Elaine Tahririha \nLocation: St Albert Further Education office\, 107\, 80 McKenney Ave\, St. Albert \nIf class is sold out – Please email here to be placed on the Wait List. \nRefund Information: \nCancellations: St. Albert Further Education reserves the right to cancel any class. A full refund will be issued for all cancelled classes. \nWithdrawals\, Transfers & Refunds: To withdraw from a class for a refund: • More than 7 days notification – full refund • Less than 7 days notification – credit voucher less 25% After class begins – no refund or credit Refunds may take up to four weeks to process. Refunds will not be issued for non-attendance. Classes will not be canceled due to severe weather. \nPlease note: Times and locations are subject to change
URL:https://stalbertfurthered.com/event/phonetics-for-tutors-and-instructors-2/
LOCATION:St. Albert Further Education\, 80 McKenney Ave #107\, St. Albert\, Alberta\, T8N 2G4\, Canada
CATEGORIES:Education & Business,English,Languages,Reading & Writing
ATTACH;FMTTYPE=image/jpeg:https://stalbertfurthered.com/wp-content/uploads/2023/12/Untitled-design-2023-12-05T111226.063.jpg
ORGANIZER;CN="St. Albert Further Education":MAILTO:admin@stalbertfurthered.com
END:VEVENT
BEGIN:VEVENT
DTSTART;TZID=America/Edmonton:20240116T183000
DTEND;TZID=America/Edmonton:20240220T203000
DTSTAMP:20260424T063808
CREATED:20231205T172716Z
LAST-MODIFIED:20231207T170752Z
UID:282398-1705429800-1708461000@stalbertfurthered.com
SUMMARY:ADHD Unleashing Your Potential
DESCRIPTION:This class is for adults with ADHD or who are affected by another person’s ADHD\, like a parent or spouse of an ADHD child or partner. This course is an overview of ADHD\, and how when we understand our ADHD we can the harness the strengths and overcome the deficits. \nFor more informatiom about Kamala and the course\, please go to https://www.rewriteadhd.com \nInstructor: Kamala Randhawa\, Certified Life/ADHD Coach \nTuesdays\, Jan 16 – Feb 20 \nLocation: St Albert Further Education office\, #107\, 80 McKenney Ave\, St Albert
URL:https://stalbertfurthered.com/event/adhd-unleashing-your-potential/
LOCATION:St. Albert Further Education\, 80 McKenney Ave #107\, St. Albert\, Alberta\, T8N 2G4\, Canada
CATEGORIES:Education & Business
ATTACH;FMTTYPE=application/pdf:https://stalbertfurthered.com/wp-content/uploads/2023/12/ADHD.pdf
ORGANIZER;CN="St. Albert Further Education":MAILTO:admin@stalbertfurthered.com
END:VEVENT
BEGIN:VEVENT
DTSTART;TZID=America/Edmonton:20240124T183000
DTEND;TZID=America/Edmonton:20240228T203000
DTSTAMP:20260424T063808
CREATED:20231205T170946Z
LAST-MODIFIED:20240111T185835Z
UID:282388-1706121000-1709152200@stalbertfurthered.com
SUMMARY:American Sign Language Level 1
DESCRIPTION:The American Sign Language Course is designed for you to develop your receptive and expressive skills by involving communication activities from the textbook\, and other sources. \nIn this class you will learn; \n\nDeaf Culture\nGetting to Know You\nExchanging Personal Information\nDiscussing Living Situations\nColours/Numbers\nWriting – grammar\, spelling and vocabulary\nConversation – speaking\, pronunciation and listening\n\n  \nInstructor: Brenda Hillcox \nWednesdays\, Jan 24 – Feb 28 \nLocation: St Albert Further Education\, #107\, 80 McKenney Ave\, St Albert \nIf class is sold out – Please email here to be placed on the Wait List. \nRefund Information: \nCancellations: St. Albert Further Education reserves the right to cancel any class. A full refund will be issued for all cancelled classes. \nWithdrawals\, Transfers & Refunds: To withdraw from a class for a refund: • More than 7 days notification – full refund • Less than 7 days notification – credit voucher less 25% After class begins – no refund or credit Refunds may take up to four weeks to process. Refunds will not be issued for non-attendance. Classes will not be canceled due to severe weather. \nPlease note: Times and locations are subject to change
URL:https://stalbertfurthered.com/event/american-sign-language-level-1-3/
LOCATION:St. Albert Further Education\, 80 McKenney Ave #107\, St. Albert\, Alberta\, T8N 2G4\, Canada
CATEGORIES:American Sign Language,Languages,Seniors
ATTACH;FMTTYPE=image/jpeg:https://stalbertfurthered.com/wp-content/uploads/2022/07/Untitled-design-12.jpg
ORGANIZER;CN="St. Albert Further Education":MAILTO:admin@stalbertfurthered.com
END:VEVENT
BEGIN:VEVENT
DTSTART;TZID=UTC:20240201T183000
DTEND;TZID=UTC:20240215T203000
DTSTAMP:20260424T063808
CREATED:20231204T232908Z
LAST-MODIFIED:20231204T232908Z
UID:282365-1706812200-1708029000@stalbertfurthered.com
SUMMARY:Canva Design Basics
DESCRIPTION:Canva Design Classes: What will you design today? \nUnlock the world of design in our Beginner Canva series! Craft eye-catching social media graphics effortlessly using the free Canva platform. From design basics to graphic customization\, this session is ideal for business owners and students. You will browse templates\, make your design unique\, and save in your preferred format. Immerse yourself in a practical\, real-time\, hands-on design experience. Ready to transform your ideas into captivating visuals? Enroll now and let your creativity shine! \nThe Free version of Canva will be used and downloaded before the first class. Instructions will be given after registration. \nThursdays\, Feb 1 – 15\, 6:30-8:30pm \nInstructor: Mandi Cronin \nLocation: St Albert Further Education\, 107 80 McKenney Ave\, St Albert (beside Reders store) \nRefund Information: \nCancellations: St. Albert Further Education reserves the right to cancel any class. A full refund will be issued for all cancelled classes. \nWithdrawals\, Transfers & Refunds: To withdraw from a class for a refund: • More than 7 days notification – full refund • Less than 7 days notification – credit voucher less 25% After class begins – no refund or credit Refunds may take up to four weeks to process. Refunds will not be issued for non-attendance. Classes will not be canceled due to severe weather. \nPlease note: Times and locations are subject to change \nIf class is sold out – Please email here to be placed on the Wait List.
URL:https://stalbertfurthered.com/event/canva-design-basics-2/
LOCATION:St. Albert Further Education\, 80 McKenney Ave #107\, St. Albert\, Alberta\, T8N 2G4\, Canada
CATEGORIES:Computers,Education & Business
ATTACH;FMTTYPE=image/jpeg:https://stalbertfurthered.com/wp-content/uploads/2022/08/Untitled-design-46.jpg
ORGANIZER;CN="St. Albert Further Education":MAILTO:admin@stalbertfurthered.com
END:VEVENT
BEGIN:VEVENT
DTSTART;TZID=America/Edmonton:20240205T130000
DTEND;TZID=America/Edmonton:20240205T150000
DTSTAMP:20260424T063808
CREATED:20231201T000032Z
LAST-MODIFIED:20231201T000032Z
UID:282350-1707138000-1707145200@stalbertfurthered.com
SUMMARY:How To Use Your Android Phone
DESCRIPTION:Mitch loves to teach others how to get the most out of their Android phone. He will cover topics such as storage\, apps\, protection\, google\, etc. Bring your questions. \nInstructor: Mitchell Smart \nLocation: St. Albert Further Education office\, #107\, 80 McKenney Ave\, St Albert \nPlease call 780-460-2207 if you have any questions. \nIf class is sold out – Please email here to be placed on the Wait List.
URL:https://stalbertfurthered.com/event/how-to-use-your-android-phone/
LOCATION:St. Albert Further Education\, 80 McKenney Ave #107\, St. Albert\, Alberta\, T8N 2G4\, Canada
CATEGORIES:Computers,Computers & Electronics,Education & Business,General Interest,Seniors
ATTACH;FMTTYPE=image/jpeg:https://stalbertfurthered.com/wp-content/uploads/2022/07/Untitled-design-2.jpg
ORGANIZER;CN="St. Albert Further Education":MAILTO:admin@stalbertfurthered.com
END:VEVENT
BEGIN:VEVENT
DTSTART;TZID=America/Edmonton:20240206T130000
DTEND;TZID=America/Edmonton:20240213T150000
DTSTAMP:20260424T063808
CREATED:20231205T171307Z
LAST-MODIFIED:20231208T211309Z
UID:282390-1707224400-1707836400@stalbertfurthered.com
SUMMARY:Smart Travels
DESCRIPTION:The days of only using travel agents to book your vacation\, sending postcards and looking for wifi to send an email are coming to an end. Travelling is changing all the time and with different restrictions adding uncertainty\, it is good to have some expert advice and tips from someone who is a knowledgeable traveller. Join Mitch Smart for this 2 week course where you will learn about planning the best trip for you\, using websites and Apps and many other tips to make your vacation run smoothly. \nInstructor: Mitch Smart \nTuesdays\, Feb 6 & 13\, 1-3pm \nLocation: St Albert Further Education\, 107 – 80 McKenney Ave\, St. Albert \nIf class is sold out – Please email here to be placed on the Wait List. \nRefund Information: \nCancellations: St. Albert Further Education reserves the right to cancel any class. A full refund will be issued for all cancelled classes. \nWithdrawals\, Transfers & Refunds: To withdraw from a class for a refund: • More than 7 days notification – full refund • Less than 7 days notification – credit voucher less 25% After class begins – no refund or credit Refunds may take up to four weeks to process. Refunds will not be issued for non-attendance. Classes will not be canceled due to severe weather. \nPlease note: Times and locations are subject to change
URL:https://stalbertfurthered.com/event/smart-travels-4/
LOCATION:St. Albert Further Education\, 80 McKenney Ave #107\, St. Albert\, Alberta\, T8N 2G4\, Canada
CATEGORIES:General Interest,Travel
ATTACH;FMTTYPE=image/jpeg:https://stalbertfurthered.com/wp-content/uploads/2023/12/Untitled-design-2023-12-06T135926.458.jpg
ORGANIZER;CN="St. Albert Further Education":MAILTO:admin@stalbertfurthered.com
END:VEVENT
BEGIN:VEVENT
DTSTART;TZID=UTC:20240212T130000
DTEND;TZID=UTC:20240212T150000
DTSTAMP:20260424T063808
CREATED:20231130T235451Z
LAST-MODIFIED:20231130T235451Z
UID:282348-1707742800-1707750000@stalbertfurthered.com
SUMMARY:How To Use Your iPhone Level 2
DESCRIPTION:This 2 hour seminar will help you to get the most out of your iPhone. This is a continuation from Level 1 where you will let Weldon know which topics you are interested in exploring in more depth. Bring your questions. \nInstructor: Weldon Ncube \nLocation: St. Albert Further Education office\, #107\, 80 McKenney Ave\, St Albert \nPlease call 780-460-2207 if you have any questions. \nIf class is sold out – Please email here to be placed on the Wait List.
URL:https://stalbertfurthered.com/event/how-to-use-your-iphone-level-2-2/
LOCATION:St. Albert Further Education\, 80 McKenney Ave #107\, St. Albert\, Alberta\, T8N 2G4\, Canada
CATEGORIES:Computers,Computers,Computers & Electronics,Education & Business
ATTACH;FMTTYPE=image/jpeg:https://stalbertfurthered.com/wp-content/uploads/2022/08/Untitled-design-3.jpg
ORGANIZER;CN="St. Albert Further Education":MAILTO:admin@stalbertfurthered.com
END:VEVENT
END:VCALENDAR